BEGIN:VCALENDAR
VERSION:2.0
PRODID:-//LaShawanda Moore, MBA - ECPv6.15.3//NONSGML v1.0//EN
CALSCALE:GREGORIAN
METHOD:PUBLISH
X-ORIGINAL-URL:https://lashawandamoore.com
X-WR-CALDESC:Events for LaShawanda Moore, MBA
REFRESH-INTERVAL;VALUE=DURATION:PT1H
X-Robots-Tag:noindex
X-PUBLISHED-TTL:PT1H
BEGIN:VTIMEZONE
TZID:America/Chicago
BEGIN:DAYLIGHT
TZOFFSETFROM:-0600
TZOFFSETTO:-0500
TZNAME:CDT
DTSTART:20230312T080000
END:DAYLIGHT
BEGIN:STANDARD
TZOFFSETFROM:-0500
TZOFFSETTO:-0600
TZNAME:CST
DTSTART:20231105T070000
END:STANDARD
END:VTIMEZONE
BEGIN:VTIMEZONE
TZID:UTC
BEGIN:STANDARD
TZOFFSETFROM:+0000
TZOFFSETTO:+0000
TZNAME:UTC
DTSTART:20190101T000000
END:STANDARD
END:VTIMEZONE
BEGIN:VEVENT
DTSTART;TZID=America/Chicago:20230912T180000
DTEND;TZID=America/Chicago:20230912T190000
DTSTAMP:20260423T235840
CREATED:20230812T164935Z
LAST-MODIFIED:20230812T164935Z
UID:2684-1694541600-1694545200@lashawandamoore.com
SUMMARY:Leading with Heart: Elevating Leadership through Emotional Intelligence
DESCRIPTION:Uplevel your leadership through the power of emotional intelligence! Join us for our transformative webinar\, “Leading with Heart: Elevating Leadership through Emotional Intelligence.” Discover how to connect authentically\, inspire your team\, and navigate challenges with empathy. Learn from our world-renowned expert and gain actionable insights to become a more impactful and influential leader. Don’t miss this opportunity to learn to lead with heart and drive exceptional results! \nAgenda: \nDuration: 60 minutes \n\nIntroduction\nUnderstanding Emotional Intelligence\nThe Role of Emotional Intelligence in Leadership\nDeveloping Self-Awareness and Self-Regulation\nEmpathetic Leadership and Building Relationships\nCultivating an Emotionally Intelligent Work Culture\nQ&A and Closing Remarks\nConclusion\n\n  \nRegister Today: \nhttps://www.eventbrite.com/e/695522395207?aff=oddtdtcreator
URL:https://lashawandamoore.com/event/leading-with-heart-elevating-leadership-through-emotional-intelligence/
ORGANIZER;CN="LaShawanda Moore%2C MBA%2C DTM%2C CPC":MAILTO:lashawanda@lashawandamoore.com
END:VEVENT
BEGIN:VEVENT
DTSTART;TZID=UTC:20230121T090000
DTEND;TZID=UTC:20230121T130000
DTSTAMP:20260423T235840
CREATED:20230106T153922Z
LAST-MODIFIED:20230106T154413Z
UID:2672-1674291600-1674306000@lashawandamoore.com
SUMMARY:2nd Annual Dreaming with Intention Visioning and Goal Setting Workshop
DESCRIPTION:
URL:https://lashawandamoore.com/event/2nd-annual-dreaming-with-intention-visioning-and-goal-setting-workshop/
ATTACH;FMTTYPE=image/jpeg:https://lashawandamoore.com/wp-content/uploads/2021/09/LaShawanda-Header-2021-1.jpg
END:VEVENT
BEGIN:VEVENT
DTSTART;TZID=UTC:20201119T110000
DTEND;TZID=UTC:20201119T113000
DTSTAMP:20260423T235840
CREATED:20200925T180024Z
LAST-MODIFIED:20200925T180024Z
UID:2537-1605783600-1605785400@lashawandamoore.com
SUMMARY:Dare to Leap Podcast with Kathy Goughenour
DESCRIPTION:Dare to Leap Podcast with Kathy Goughenour\, Business Coach+Trainer for VAs at 11:15am (Eastern Time – US & Canada) on Thursday\, November 19\, 2020
URL:https://lashawandamoore.com/event/dare-to-leap-podcast-with-kathy-goughenour/
ATTACH;FMTTYPE=image/jpeg:https://lashawandamoore.com/wp-content/uploads/revslider/home1/Lashawanda-Moore-slide.jpg
END:VEVENT
BEGIN:VEVENT
DTSTART;VALUE=DATE:20201106
DTEND;VALUE=DATE:20201107
DTSTAMP:20260423T235840
CREATED:20201020T183615Z
LAST-MODIFIED:20201020T183615Z
UID:2542-1604620800-1604707199@lashawandamoore.com
SUMMARY:14th Annual HIGHER Ground Women's Leadership Conference
DESCRIPTION:Register at https://gehli.vcu.edu/conference/ \nAbout the Conference\nThe Annual HIGHER Ground Women’s Leadership Conference provides high-quality education and networking opportunities. Each year\, more than 300 participants come together to share ideas\, illuminate innovative leadership practices and explore factors that influence their effectiveness at work\, at home and in their communities. This conference provides participants with a tremendous opportunity to grow\, develop and learn with practical solutions for success in their personal and professional lives. Our one-day\, multi-track format offers a self-directed facilitated learning environment with education sessions and interactive forums. Key features include: plenary sessions\, panel discussions\, workshops\, and regional and national speakers highlighting timely issues of importance to women. Continuing Education Units (CEU) are available for full participation in this event. \nThis one day event celebrates who you are as a woman in all aspects of your life. The conference will provide you a tremendous opportunity to grow\, develop\, and learn with practical solutions for success at home and at work. Guided by The Grace E. Harris Leadership Institute\, with presentations from regionally and nationally known workshop leaders\, participants will explore the latest and innovative practices in leadership excellence. Come spend a day with great leaders\, find what motivates you\, and build leadership skills that last! \nThis conference is open to all. We embrace the fullness of womanhood in all its inclusive paths\, intersectional journeys\, and for all interested in how womanhood has shaped their leadership journey. \n 
URL:https://lashawandamoore.com/event/14th-annual-higher-ground-womens-leadership-conference/
ATTACH;FMTTYPE=image/png:https://lashawandamoore.com/wp-content/uploads/2020/10/unnamed.png
END:VEVENT
BEGIN:VEVENT
DTSTART;VALUE=DATE:20201021
DTEND;VALUE=DATE:20201024
DTSTAMP:20260423T235840
CREATED:20200925T175714Z
LAST-MODIFIED:20200925T175714Z
UID:2534-1603238400-1603497599@lashawandamoore.com
SUMMARY:Breakthrough in Business 2020
DESCRIPTION:Breakthrough in Business 2020\, our theme is Next Level Everything\nOctober 21-23\, 2020
URL:https://lashawandamoore.com/event/breakthrough-in-business-2020/
ATTACH;FMTTYPE=image/jpeg:https://lashawandamoore.com/wp-content/uploads/2020/09/l2.jpg
END:VEVENT
BEGIN:VEVENT
DTSTART;TZID=UTC:20201001T190000
DTEND;TZID=UTC:20201001T210000
DTSTAMP:20260423T235840
CREATED:20200925T175309Z
LAST-MODIFIED:20200925T175309Z
UID:2529-1601578800-1601586000@lashawandamoore.com
SUMMARY:The Convo w/ Ms Marjon
DESCRIPTION:The Convo w/ Ms Marjon\nMain Topics of Discussion:\nLaShawnda’s book RECOVER\nInterview day/time: Thursday\, October 1st @ 7PM
URL:https://lashawandamoore.com/event/the-convo-w-ms-marjon/
ATTACH;FMTTYPE=image/png:https://lashawandamoore.com/wp-content/uploads/2020/09/l1.png
END:VEVENT
BEGIN:VEVENT
DTSTART;TZID=UTC:20200123T080000
DTEND;TZID=UTC:20200123T090000
DTSTAMP:20260423T235840
CREATED:20190516T163826Z
LAST-MODIFIED:20190516T163826Z
UID:2239-1579766400-1579770000@lashawandamoore.com
SUMMARY:BREW - Women’s Business Council of Chesterfield Chamber of Commerce
DESCRIPTION:Stonehenge Gulf and Country Club\n1000 Farnham Drive | N. Chesterfield\, VA 23236
URL:https://lashawandamoore.com/event/brew-womens-business-council-of-chesterfield-chamber-of-commerce/
LOCATION:Stonehenge Gulf and Country Club\, 1000 Farnham Drive\, N. Chesterfield\, VA\, United States
ATTACH;FMTTYPE=image/jpeg:https://lashawandamoore.com/wp-content/uploads/revslider/home1/Lashawanda-Moore-slide.jpg
END:VEVENT
BEGIN:VEVENT
DTSTART;TZID=UTC:20191102T090000
DTEND;TZID=UTC:20191102T170000
DTSTAMP:20260423T235840
CREATED:20190727T154440Z
LAST-MODIFIED:20190727T155141Z
UID:2273-1572685200-1572714000@lashawandamoore.com
SUMMARY:4th Annual POP UP Conference for Female Entrepreneurs
DESCRIPTION:LaShawanda Moore\, MBA\, CPC\, ELI-MP is a speaker for the 4th Annual POP UP Conference! \nHyatt House Richmond-West\n11800 W. Broad Street\nShort Pump Town Center \nNovember 1st and November 2nd\nhttps://heygirlhey.biz \n✓ Want other successful women entrepreneurs to pour into you and your business\n✓ Want to take your business to the next level\, even if you’re just getting started\n✓ Want to know the latest business strategies and marketing tips to help your business Pop Up on the scene\n✓ Want to make sure that your year far exceeds your expectations\nIf you are ready for that\, plan to join us for the 2019 Pop Up Conference. It’s about time for your business to Pop Up and change the world! What are you waiting on?
URL:https://lashawandamoore.com/event/4th-annual-popup-conference-for-female-entrepreneurs/
LOCATION:Hyatt House Hotel\, Short Pump Town Center\, Richmond
ATTACH;FMTTYPE=image/jpeg:https://lashawandamoore.com/wp-content/uploads/revslider/home1/ww.jpg
END:VEVENT
BEGIN:VEVENT
DTSTART;TZID=UTC:20191101T080000
DTEND;TZID=UTC:20191101T170000
DTSTAMP:20260423T235840
CREATED:20190809T182353Z
LAST-MODIFIED:20190809T182651Z
UID:2300-1572595200-1572627600@lashawandamoore.com
SUMMARY:13th Annual HIGHER Ground Women’s Leadership Conference
DESCRIPTION:LaShawanda will present a session on Energy Leadership™: The Solution for the Multi-Generational Workforce \nThe Grace E. Harris Leadership Institute
URL:https://lashawandamoore.com/event/13th-annual-higher-ground-womens-leadership-conference/
ATTACH;FMTTYPE=image/jpeg:https://lashawandamoore.com/wp-content/uploads/revslider/home1/Lashawanda-Moore-slide.jpg
END:VEVENT
BEGIN:VEVENT
DTSTART;TZID=UTC:20191019T113000
DTEND;TZID=UTC:20191019T133000
DTSTAMP:20260423T235840
CREATED:20190926T154007Z
LAST-MODIFIED:20190926T155237Z
UID:2347-1571484600-1571491800@lashawandamoore.com
SUMMARY:Soul-Care is Self-Care
DESCRIPTION:
URL:https://lashawandamoore.com/event/soul-care-is-self-care/
ATTACH;FMTTYPE=image/jpeg:https://lashawandamoore.com/wp-content/uploads/2019/09/webinar.jpg
END:VEVENT
BEGIN:VEVENT
DTSTART;TZID=UTC:20191005T133000
DTEND;TZID=UTC:20191005T173000
DTSTAMP:20260423T235840
CREATED:20190916T162847Z
LAST-MODIFIED:20190916T163210Z
UID:2341-1570282200-1570296600@lashawandamoore.com
SUMMARY:Elevate Your 2020 Goals Intensive
DESCRIPTION:Are you tired of setting goals and not achieving them? \nYou begin the year inspired\, ready to ROCK out the year\, and then the FIRE fizzles!! \nJust perhaps those wasted goals…. \nWere too vague and not in alignment with your inspirations.\nWere not measurable and you were not really sure where you stood in achievement.\nWere out of sight and out of mind\, because you did not revisit them.\nWeren’t realistic in the first place\, so you lost motivation. \nAND… to TOP it off\, you didn’t have actionable steps with accountability to help you with follow through. \nIt’s Time to “Elevate Your 2020 Goals!” \nJoin the award winning\, professional certified coach and retired engineer\, LaShawanda Moore\, MBA\, for a Goal Setting Intensive that will not only help you set goals that WIN\, but also one that will help you dig deep within your inner motivator to discover your “why”. Once you are crystal clear on the thing that moves and shakes you\, then it’s time to set goals to help you continue to advance your purpose! \nYou will: \n1. Dive into discovering your deeply rooted “why” \n2. Determine your One Word focus for 2020 \n3. Develop 3 to 5 key S.M.A.R.T. goals for achievement in 2020 \n4. Develop a specific action plan that will put you into action immediately \n5. Plan your 2020 accountability strategy \n6. Join a community of GO GETTERS ready to Own their B.O.L.D. Factor in 2020 \nAll workshop materials\, light refreshments\, coaching and mindfulness exercises will be included. \nWhen: Friday\, October 5th from 1:30pm – 5:30pm \nWhere: The Healing Hub\, 916 North Arthur Ashe Boulevard\, Richmond\, VA 23230 \nCost: $89 \nREGISTER here: https://www.eventbrite.com/e/elevate-your-2020-goals-intensive-tickets-72560348957 \n“Write the vision\, make it plain\, post it and keep running with it!”
URL:https://lashawandamoore.com/event/elevate-your-2020-goals-intensive/
ATTACH;FMTTYPE=image/jpeg:https://lashawandamoore.com/wp-content/uploads/revslider/home1/Lashawanda-Moore-slide.jpg
END:VEVENT
BEGIN:VEVENT
DTSTART;TZID=UTC:20190917T080000
DTEND;TZID=UTC:20190917T130000
DTSTAMP:20260423T235840
CREATED:20190814T192449Z
LAST-MODIFIED:20190814T192449Z
UID:2309-1568707200-1568725200@lashawandamoore.com
SUMMARY:Leadership Chesterfield
DESCRIPTION:Leadership Chesterfield helps emerging leaders interested in strengthening their leadership vision and effectiveness; deepening their understanding of and connections to the chamber\, the county\, and the business community.
URL:https://lashawandamoore.com/event/leadership-chesterfield/
ATTACH;FMTTYPE=image/png:https://lashawandamoore.com/wp-content/uploads/2019/08/Capture.png
END:VEVENT
BEGIN:VEVENT
DTSTART;TZID=UTC:20190906T194500
DTEND;TZID=UTC:20190906T230000
DTSTAMP:20260423T235840
CREATED:20190809T183210Z
LAST-MODIFIED:20190809T185214Z
UID:2304-1567799100-1567810800@lashawandamoore.com
SUMMARY:Birthday Celebration for LaShawanda Moore
DESCRIPTION:It’s time to PLAY! 💃🏾💃🏾 \nCome on out to help LaShawanda Moore celebrate her 45th birthday!! \nIt’s an Adult Only Game Night at Launch! \nLaunch Trampoline Park – Richmond\, VA\n10903 Hull Street Rd\, Midlothian\, Virginia 23112 \nWhen is the last time you let your hair down and just played!? \nCome ready to get in the Battle Pit\, Play LaserTag\, Connect Four\, Hula Hoop\, Jenga\, Jacks\, and more! We will dance to the sounds of DJ Coria\, eat and just have fun! \nArrive at 7:45pm for an on time drawing! \nRegister today\, space is limited: bit.ly/BirthdayforLaShawanda \nComplete your waiver beforehand: https://hq.vendsy.com/signwaiver/129
URL:https://lashawandamoore.com/event/birthday-celebration-for-lashawanda-moore/
LOCATION:Launch\, 10903 Hull Street Rd\, Midlothian\, VA\, 23112\, United States
ATTACH;FMTTYPE=image/jpeg:https://lashawandamoore.com/wp-content/uploads/2019/08/unnamed-1.jpg
END:VEVENT
BEGIN:VEVENT
DTSTART;TZID=UTC:20190820T180000
DTEND;TZID=UTC:20190820T183000
DTSTAMP:20260423T235840
CREATED:20190727T152745Z
LAST-MODIFIED:20190727T152948Z
UID:2268-1566324000-1566325800@lashawandamoore.com
SUMMARY:The Sharvette Mitchell Radio Show
DESCRIPTION:LaShawanda will appear on the Sharvette Mitchell Radio Show which features various guests that include\, celebrities\, artists\, authors\, small business owners\, public speakers\, consultants\, media personality and other influential people! Our goal: to motivate\, excite and influence! \nListen online at https://sharvette.com/on-air-with-lashawanda-moore/
URL:https://lashawandamoore.com/event/the-sharvette-mitchell-radio-show/
ATTACH;FMTTYPE=image/png:https://lashawandamoore.com/wp-content/uploads/2019/07/Radio-show-www.Sharvette.com-2.png
END:VEVENT
BEGIN:VEVENT
DTSTART;TZID=UTC:20190710T073000
DTEND;TZID=UTC:20190710T083000
DTSTAMP:20260423T235840
CREATED:20190516T163350Z
LAST-MODIFIED:20190516T163350Z
UID:2236-1562743800-1562747400@lashawandamoore.com
SUMMARY:James River Rotary
DESCRIPTION:Topic: “Creating Synergy Among the Generations in the Workplace”\nAddress:14121 Justice Rd Midlothian\, VA\, United States
URL:https://lashawandamoore.com/event/james-river-rotary/
ATTACH;FMTTYPE=image/jpeg:https://lashawandamoore.com/wp-content/uploads/revslider/home1/Lashawanda-Moore-slide.jpg
END:VEVENT
BEGIN:VEVENT
DTSTART;TZID=UTC:20190709T190000
DTEND;TZID=UTC:20190709T200000
DTSTAMP:20260423T235840
CREATED:20190628T160206Z
LAST-MODIFIED:20190629T124753Z
UID:2259-1562698800-1562702400@lashawandamoore.com
SUMMARY:[ Webinar ] 5 Mistakes Direct Sales Professionals Make...
DESCRIPTION:Register at https://www.subscribepage.com/DirectSalesMistakes \n\n5 Mistakes Direct Sales Professionals Make That Keep them from Growing their Business to Six Figures\n\n\n\n\nAre you brand new to direct sales\, excited and want to share the opportunity but don’t know how?\nDo you easily sell your product but when it comes time to extend the opportunity you feel fear?\nAre you tired of meeting prospects that you can’t get to join your business and your upline isn’t giving you the support you need?\nAre you frustrated that you joined your direct sales company to make money\, but instead you are losing money and not growing your team?\n\nIf you answered ‘yes’ to any of the above questions\, then join me for the “5 Mistakes Direct Sales Professionals Make That Keep them from Growing their Business to Six Figures” Webinar. \nRegister at https://www.subscribepage.com/DirectSalesMistakes
URL:https://lashawandamoore.com/event/webinar-5-mistakes-direct-sales-professionals-make-that-keep-them-from-growing-their-business-to-six-figures/
ATTACH;FMTTYPE=image/jpeg:https://lashawandamoore.com/wp-content/uploads/revslider/home1/LaShawanda-Moore-home-4.jpg
END:VEVENT
BEGIN:VEVENT
DTSTART;TZID=UTC:20190531T190000
DTEND;TZID=UTC:20190531T210000
DTSTAMP:20260423T235840
CREATED:20190516T135903Z
LAST-MODIFIED:20190516T163606Z
UID:2232-1559329200-1559336400@lashawandamoore.com
SUMMARY:Girls Like Me - Session 3 Closing Ceremony
DESCRIPTION:Girls Like Me -This Capital One sponsored event will include presentations from each of our girls sharing their experience in the program. We’ll also have a special speech from Launch Trampoline Owner\, LaShawanda Moore! We ask that you invite your closest family and friends to support the accomplishments of your daughter! \nDinner will be served. Attire is semi-formal\, so dress your best!
URL:https://lashawandamoore.com/event/girls-like-me-session-3-closing-ceremony/
LOCATION:1717 Innovation Center\, 1717 E Cary St\, Richmond\, VA
ATTACH;FMTTYPE=image/jpeg:https://lashawandamoore.com/wp-content/uploads/2019/04/Lashawanda-Moore-slide.jpg
END:VEVENT
BEGIN:VEVENT
DTSTART;TZID=UTC:20190518T080000
DTEND;TZID=UTC:20190518T170000
DTSTAMP:20260423T235840
CREATED:20190419T215400Z
LAST-MODIFIED:20190419T215400Z
UID:2185-1558166400-1558198800@lashawandamoore.com
SUMMARY:New Birth Fellowship Ministries - Women’s Conference
DESCRIPTION:Lady Robinson and New Birth Fellowship Ministries Women of Destiny are gearing up for Women’s Conference 2019 “Perfecting Me”. May 16-19\, 2019. \nSpeaker: LaShawanda Moore
URL:https://lashawandamoore.com/event/new-birth-fellowship-ministries-womens-conference/
LOCATION:New Birth Fellowship Ministries\, 5745 Orcutt Lane\, Richmond\, VA\, United States
ATTACH;FMTTYPE=image/jpeg:https://lashawandamoore.com/wp-content/uploads/2019/03/53716312_2395234030507012_6415278043127873536_n.jpg
END:VEVENT
END:VCALENDAR